BEGIN:VCALENDAR
VERSION:2.0
PRODID:-// - ECPv6.15.20//NONSGML v1.0//EN
CALSCALE:GREGORIAN
METHOD:PUBLISH
X-ORIGINAL-URL:https://acunarte.com
X-WR-CALDESC:Eventos para 
REFRESH-INTERVAL;VALUE=DURATION:PT1H
X-Robots-Tag:noindex
X-PUBLISHED-TTL:PT1H
BEGIN:VTIMEZONE
TZID:UTC
BEGIN:STANDARD
TZOFFSETFROM:+0000
TZOFFSETTO:+0000
TZNAME:UTC
DTSTART:20240101T000000
END:STANDARD
END:VTIMEZONE
BEGIN:VEVENT
DTSTART;TZID=UTC:20250510T080000
DTEND;TZID=UTC:20250520T170000
DTSTAMP:20260421T143355
CREATED:20250507T111649Z
LAST-MODIFIED:20250514T065935Z
UID:80-1746864000-1747760400@acunarte.com
SUMMARY:Evento de prueba
DESCRIPTION:Enveto de prueba
URL:https://acunarte.com/event/evento-de-prueba/
CATEGORIES:Literatura
END:VEVENT
END:VCALENDAR