BEGIN:VCALENDAR
VERSION:2.0
PRODID:-// - ECPv6.15.20//NONSGML v1.0//EN
CALSCALE:GREGORIAN
METHOD:PUBLISH
X-ORIGINAL-URL:https://acunarte.com
X-WR-CALDESC:Eventos para 
REFRESH-INTERVAL;VALUE=DURATION:PT1H
X-Robots-Tag:noindex
X-PUBLISHED-TTL:PT1H
BEGIN:VTIMEZONE
TZID:UTC
BEGIN:STANDARD
TZOFFSETFROM:+0000
TZOFFSETTO:+0000
TZNAME:UTC
DTSTART:20250101T000000
END:STANDARD
END:VTIMEZONE
BEGIN:VEVENT
DTSTART;TZID=UTC:20260505T080000
DTEND;TZID=UTC:20260505T170000
DTSTAMP:20260425T195930
CREATED:20250514T082302Z
LAST-MODIFIED:20260324T112654Z
UID:550-1777968000-1778000400@acunarte.com
SUMMARY:Representación de la Casa de Bernarda Alba
DESCRIPTION:
URL:https://acunarte.com/event/representacion-de-la-casa-de-bernarda-alba/
CATEGORIES:Teatro
END:VEVENT
END:VCALENDAR